BEGIN:VCALENDAR
VERSION:2.0
PRODID:-//The Village Learning Center - ECPv4.6.16//NONSGML v1.0//EN
CALSCALE:GREGORIAN
METHOD:PUBLISH
X-WR-CALNAME:The Village Learning Center
X-ORIGINAL-URL:https://thevillagelearningcenter.com
X-WR-CALDESC:Events for The Village Learning Center
BEGIN:VEVENT
DTSTART;VALUE=DATE:20260314
DTEND;VALUE=DATE:20260315
DTSTAMP:20260421T152818
CREATED:20210304T150854Z
LAST-MODIFIED:20210304T150854Z
UID:8923-1773446400-1773532799@thevillagelearningcenter.com
SUMMARY:National Pi Day
DESCRIPTION:
URL:https://thevillagelearningcenter.com/event/national-pi-day/2026-03-14/
CATEGORIES:Calendar Only
END:VEVENT
END:VCALENDAR